BEGIN:VCALENDAR
VERSION:2.0
PRODID:-//eventon.com NONSGML v1.0//EN
BEGIN:VEVENT
UID:69e734e09ff7b
DTSTAMP:20260421T102712
DTSTART:20260803T100000Z
DTEND:20260803T215000Z
LOCATION:Løkkeveien 10 Løkkeveien 10
SUMMARY:Trafikalt Grunnkurs
DESCRIPTION: Leksjon 1: 03.08.2026 kl. 12.00-14.45 Leksjon 2: 04.08.2026 kl. 12.00-14.45 Leksjon 3: 05.08.2026 kl. 12.00-14.45 Førstehjelpskurs: 06.08.2026 kl. 13.00-16.15 (Løkkeveien 10) Trafikant i mørket: høsten-26
END:VEVENT
END:VCALENDAR