BEGIN:VCALENDAR
VERSION:2.0
PRODID:-//eventon.com NONSGML v1.0//EN
BEGIN:VEVENT
UID:69e4e645066ac
DTSTAMP:20260419T162717
DTSTART:20260129T160000Z
DTEND:20260129T181500Z
LOCATION:Haugsgjerd Løkkeveien 10\,  4008 Stavanger
SUMMARY:Trafikant i mørket
DESCRIPTION: Trafikant i mørket
END:VEVENT
END:VCALENDAR