BEGIN:VCALENDAR
VERSION:2.0
PRODID:-//eventon.com NONSGML v1.0//EN
BEGIN:VEVENT
UID:69e745c484261
DTSTAMP:20260421T113916
DTSTART:20250224T113000Z
DTEND:20250428T134500Z
LOCATION:Løkkeveien 10 Løkkeveien 10
SUMMARY:Kjøremetodikk – Del 1 (Vinterferie)
DESCRIPTION: Kjøremetodikk – Del 1 (Vinterferie)
END:VEVENT
END:VCALENDAR