BEGIN:VCALENDAR
VERSION:2.0
PRODID:-//eventon.com NONSGML v1.0//EN
BEGIN:VEVENT
UID:69e77f02d1727
DTSTAMP:20260421T154330
DTSTART:20250107T133000Z
DTEND:20250107T154500Z
LOCATION:Løkkeveien 10 Løkkeveien 10
SUMMARY:Kjøremetodikk – Del 1
DESCRIPTION: Kjøremetodikk – Del 1
END:VEVENT
END:VCALENDAR