BEGIN:VCALENDAR
VERSION:2.0
PRODID:-//eventon.com NONSGML v1.0//EN
BEGIN:VEVENT
UID:69e88b444d83f
DTSTAMP:20260422T104804
DTSTART:20240729T100000Z
DTEND:20240729T215000Z
LOCATION:Løkkeveien 10 Løkkeveien 10
SUMMARY:Trafikalt Grunnkurs
DESCRIPTION: Leksjon 1: 29.07 kl. 12:00 - 14:30 Leksjon 2: 30.07 kl. 12:00 - 14:30 Leksjon 3: 31.07 kl. 12:00 - 14:30 Førstehjelpskurs 01.08 kl. 12:00 - 15:00
END:VEVENT
END:VCALENDAR