BEGIN:VCALENDAR
VERSION:2.0
PRODID:-//eventon.com NONSGML v1.0//EN
BEGIN:VEVENT
UID:69ecf17cc1f4d
DTSTAMP:20260425T185316
DTSTART:20240122T133000Z
DTEND:20240122T154500Z
LOCATION:Løkkeveien 10 Løkkeveien 10
SUMMARY:Kjøremetodikk – Del 1
DESCRIPTION: Kjøremetodikk – Del 1
END:VEVENT
END:VCALENDAR