BEGIN:VCALENDAR
VERSION:2.0
PRODID:-//eventon.com NONSGML v1.0//EN
BEGIN:VEVENT
UID:69e7354ce11f9
DTSTAMP:20260421T102900
DTSTART:20231031T133000Z
DTEND:20231031T154500Z
LOCATION:Løkkeveien 10 Løkkeveien 10
SUMMARY:Kjøremetodikk – Del 1
DESCRIPTION: Kjøremetodikk – Del 1
END:VEVENT
END:VCALENDAR