BEGIN:VCALENDAR
VERSION:2.0
PRODID:-//eventon.com NONSGML v1.0//EN
BEGIN:VEVENT
UID:69e7365c284f1
DTSTAMP:20260421T103332
DTSTART:20220420T133000Z
DTEND:20220420T215000Z
LOCATION:Løkkeveien 10 Løkkeveien 10
SUMMARY:Trafikalt Grunnkurs
DESCRIPTION: Leksjon 1: 20.04 kl. 15.30-18.00 Leksjon 2: 25.04 kl. 15.30-18.00 Leksjon 3: 27.04 kl. 15.30-18.00 Førstehjelpskurs: 02.05 kl. 16.00-19.00 
END:VEVENT
END:VCALENDAR