BEGIN:VCALENDAR
VERSION:2.0
PRODID:-//eventon.com NONSGML v1.0//EN
BEGIN:VEVENT
UID:69e88d967e9df
DTSTAMP:20260422T105758
DTSTART:20220125T163000Z
DTEND:20220125T183000Z
LOCATION:Haugsgjerd Løkkeveien 10\,  4008 Stavanger
SUMMARY:Ledsagerkurs - FULLT
DESCRIPTION: Kurset er ment som en hjelp til alle som ønsker å øve praktisk bilkjøring hjemme. Vi ser på øvelseskjøring som en stor fordel for eleven\,  dersom dette gjøres systematisk. Vårt viktigste mål er å bidra gjennom samarbeid med foreldrene til at elevene etter førerprøven kjører med best mulig risikoforståelse og[..]
END:VEVENT
END:VCALENDAR